Workbook
Name Choose_from_drop_down: 'Drop down list'!#REF!
Name Company_Code: '[1]Formulas List'!$E$2:$E$64
Name Company_Code_for_Ariba: '[1]Formulas List'!$G$2:$G$21
Name ERS: '[1]Formulas List'!$Q$2:$Q$4
Name House_Bank: '[1]Formulas List'!$N$2:$N$5
Name ICMS_Taxpayer: '[1]Formulas List'!$K$2:$K$4
Name Incoterms1: '[1]Formulas List'!$P$2:$P$32
Name Industry_Key: '[1]Formulas List'!$J$2:$J$297
Name International_Version_Type: '[1]Formulas List'!$L$2:$L$6
Name Language_of_Vendor: '[1]Formulas List'!$H$2:$H$17
Name NobianCompanyCodeAriba: 'Drop down list'!#REF!
Name NobianCompanyCodeOther: 'Drop down list'!#REF!
Name NobianPurchaseOrganization: 'Drop down list'!#REF!
Name NouryonCompanyCodeAriba: 'Drop down list'!$H$2:$H$19
Name NouryonCompanyCodeOther: 'Drop down list'!$I$2:$I$64
Name NouryonPurchaseOrganization: 'Drop down list'!$G$3:$G$30
Name Order_Currency: '[1]Formulas List'!$O$2:$O$201
Name Payment_Term: '[1]Formulas List'!$M$2:$M$19
Name Purchase_Organization: '[1]Formulas List'!$F$2:$F$82
Name SaltSpecialtiesCompanyCodeAriba: 'Drop down list'!#REF!
Name SaltSpecialtiesCompanyCodeOther: 'Drop down list'!#REF!
Name SaltSpecialtiesPurchaseOrganization: 'Drop down list'!#REF!
Name Stand_Method: '[1]Formulas List'!$I$2:$I$4
Name test: MDM!$B$6,MDM!$B$8,MDM!$B$9,MDM!#REF!,MDM!$B$10,MDM!$B$11,MDM!#REF!
Name TypeofRequest: '[1]Formulas List'!$A$2:$A$5
Name Vendor_account_group: '[1]Formulas List'!$B$2:$B$7

Sheet Vendor Form
A2: Vendor Form Europe Middle East India & Africa
A3: Version 04.08.2026
A5: This form must be used to become a new supplier to Nouryon or to update your current information.
A6: When you want to update your current information please provide all fields.
A7: Fill in this form and e-mail the Excel to: vendor@nouryon.com
A9: *Optional
A10: Your Vendor Data | C10: Choose from drop down
A12: Statutory Information
A13: Company name
A14: Company address
A15: House number
A16: Postal code
A17: City
A18: Region/ Province - Mandatory for Northern Ireland | C18: Choose from drop down
A19: Country | C19: Choose from drop down
A20: Company phone number
A21: VAT/Tax number
A22: Additional Tax number - mandatory for Italy
A23: Chamber of Commerce number *
A24: D.U.N.S. nr. *
A25: Ariba Network ID *
A26: Standard Carrier Alpha Code (SCAC) *
A28: Contact Information
A29: Company post address (if different from statuary) *
A30: House number *
A31: Postal code *
A32: City *
... A35: E-mail address for receiving PO's
A36: Communication language | C36: Choose from drop down
A37: Nouryon Business contact person
A38: Nouryon Procurement contact person
A40: Payment Information
A41: Currency | C41: Choose from drop down
A42: Account holder
A43: Bank name
A44: Bank country
A45: IBAN or Bank Account Number
A46: =IF(C44="India","Bank Key*","BIC/Swift code") -> BIC/Swift code
A47: =IF(OR(C44="0",C44="France",C44="Italy",C44="Spain",C44="Portugal",C44="Russia"),"Bank control key","")
A48: Delete old Bank Account if applicable * | C48: Yes
...

Sheet MDM
A1: MDM Europe Middle East India & Africa
A2: Version 04.08.2026 | B2: =IF(B13>0,"Please link SAP-ID and ACM-ID first!","")
A4: Initial Screen | C4: Fill in
A5: Vendor Details | B5: =IF('Vendor Form'!$C$10="Choose from drop down","",'Vendor Form'!$C$10) | C5: Automatic
A6: Type of Request 1 | B6: Choose from drop down | C6: PAO
A7: Type of Request 2 | B7: Choose from drop down | C7: PAO
A8: Vendor Number | C8: PAO
A9: Vendor Account Group | B9: Choose from drop down | C9: PAO
A10: Purchase Organization | B10: Choose from drop down | C10: PAO
A11: Company Code Ariba | B11: Choose from drop down | C11: PAO
A12: Company Code other | B12: Choose from drop down | C12: PAO
A13: Ariba Prospect ACM ID | C13: PAO
A14: General Data (English)
A15: Vendor name | B15: =IF('Vendor Form'!$C$13="","",'Vendor Form'!$C$13) | C15: Automatic
A16: Vendor name 2 (if necessary) | C16: Optional
A17: Search Field | C17: Optional
A18: Street | B18: =IF('Vendor Form'!$C$14="","",'Vendor Form'!$C$14) | C18: Automatic
A19: House number | B19: =IF('Vendor Form'!$C$15="","",'Vendor Form'!$C$15) | C19: Automatic
A20: Street 2 | C20: Optional
A21: District | C21: Optional
A22: Postal code | B22: =IF('Vendor Form'!$C$16="","",'Vendor Form'!$C$16) | C22: Automatic
A23: City | B23: =IF('Vendor Form'!$C$17="","",'Vendor Form'!$C$17) | C23: Automatic
A24: Country | B24: =IF('Vendor Form'!$C$19="Choose from drop down","",'Vendor Form'!$C$19) | C24: Automatic
A25: Region/ Province | B25: =IF('Vendor Form'!$C$18="","",'Vendor Form'!$C$18) -> Choose from drop down | C25: Automatic
A26: ICMS Taxpayer | C26: Not applicable
A27: PO Box | B27: =IF('Vendor Form'!$C$29="","",'Vendor Form'!$C$29) | C27: Automatic
A28: PO Box Postal Code | B28: =IF('Vendor Form'!$C$31="","",'Vendor Form'!$C$31) | C28: Automatic
A29: Other City | B29: =IF('Vendor Form'!$C$32="","",'Vendor Form'!$C$32) | C29: Automatic
A30: Language of Vendor | B30: =IF('Vendor Form'!$C$36="Choose from drop down","",'Vendor Form'!$C$36) | C30: Automatic
A31: Telephone no. | B31: =IF('Vendor Form'!$C$20="","",'Vendor Form'!$C$20) | C31: Automatic
A32: Fax no. | C32: Optional
A33: E-Mail | B33: =IF('Vendor Form'!$C$35="","",'Vendor Form'!$C$35) | C33: Automatic
A34: Payment Supplement Email | C34: Optional
A35: Stand Method | B35: Email | C35: PAO
A36: International Version
A37: International Version Type | C37: Not applicable
A38: Vendor name | C38: Not applicable
A39: Vendor name 2 (if necessary) | C39: Not applicable
A40: Search Field | C40: Not applicable
A41: Street | C41: Not applicable
...

Sheet Drop down list
A1: Type of Request | B1: Delete Old Bank Account | C1: EMEIA | D1: APAC | E1: LATAM - Spanish | F1: NAM - English | G1: Nouryon Purchase Organization | H1: Nouryon Company Code Ariba | I1: Nouryon Company Code other | J1: Vendor account group | K1: Recon. Account | L1: Cash Management Group | M1: Language of Vendor | N1: Stand Method | O1: Industry Key | P1: ICMS Taxpayer | Q1: International Version Type | R1: Payment Term | S1: House Bank | T1: Order Currency | U1: Incoterms 2020 | V1: ERS | W1: Payment Method | X1: Bank account phone confirmation | Y1: Your Vendor Details | Z1: Northern Ireland Regions
A2: Choose from drop down | B2: Choose from drop down | C2: Choose from drop down | D2: Choose from drop down | E2: Choose from drop down | F2: Choose from drop down | G2: Choose from drop down | H2: Choose from drop down | I2: Choose from drop down | J2: Choose from drop down | M2: Choose from drop down | N2: Choose from drop down | O2: Choose from drop down | R2: Choose from drop down | S2: Choose from drop down | T2: Choose from drop down | U2: Choose from drop down | V2: Choose from drop down | W2: Choose from drop down | X2: Choose from drop down | Y2: Choose from drop down | Z2: Choose from drop down
A3: Create New Vendor | B3: Yes | C3: Albania | D3: Afghanistan | E3: Belize | F3: Anguilla | G3: IGAR - Nouryon Ariba Global | H3: AE - 8240 | I3: 0061 - CA - Nouryon Chemicals Ltd(CA) | J3: ZVND- Third Party Vendor | K3: 3211000 - Supplies | L3: A1 - Vendors third parties | M3: English | N3: Email | O3: OT01 - Governmental Payments | P3: Choose from drop down | Q3: Choose from drop down | R3: A004 - 0 days end of month invoice + 4 days | S3: 77777777 – XX – IHCA | T3: EUR | U3: CFR - Costs and freight | V3: Yes | W3: H - Bank | X3: Yes | Y3: Are new | Z3: AM - Armagh
A4: Change E-mail | B4: No | C4: Algeria | D4: Australia | E4: Costa Rica | F4: Antigua and Barbuda | G4: TREU - BASC Tran.Man. EMAEI (ZCAR) | H4: AR - 4083 | I4: 0062 - GB - Nouryon Chemicals Limited | J4: ZCAR- Forwarding agent (TREU/ TRAM/ TRAP/TRBR) | K4: 3211000 - Supplies | L4: A1 - Vendors third parties | M4: Chinese | N4: Printer | O4: OT02 - Bank | P4: 1 - Tax Jurisdiction start with region without ‘C’ | Q4: Chinese | R4: A014 - 0 days end of month invoice + 14 days | S4: 88888888 – XX – IHCU | T4: USD | U4: CIF - Costs, insurance & freight | V4: No | W4: HB - IBAN /Bank Giro - Sweden | X4: No | Y4: Need to be updated | Z4: AT - Antrim
A5: Change Payment Term | B5: Not applicable | C5: Andorra | D5: Bangladesh | E5: El Salvador | F5: Aruba | G5: DEU1 - BASC RM&P EMEAI | H5: BE - 0636 | I5: 0125 - MX - NR Chemicals SA de CV | K5: 3311000 - Intercompany – current accounts payables | L5: A2 - Vendors within Nouryon | M5: Chinese Trad. | N5: Fax | O5: OT03 - Social Security | P5: 9 - Tax Jurisdiction start with region + ‘C’ | Q5: International | R5: A034 - 30 days end of month invoice +4 | S5: 99999999 – XX – IHCE | T5: INR | U5: CIP - Carriage and insurance paid to | W5: HG - IBAN/ Bank Giro - Denmark | X5: Not applicable | Z5: DN - Down
A6: Change Industry Key | C6: Austria | D6: Brunei | E6: Guatemala | F6: Bahamas | G6: CSEU - BASC CS EMEAI | H6: CA - 0061/7640 | I6: 0126 - DE - Nouryon Chemicals GmbH | K6: 3311046 - Intercompany current account payables | L6: A3 - Vendors within the BU | M6: Danish | O6: OT04 - Landowners | Q6: Kanji | R6: A044 - 30 days end of month invoice + 14 days | S6: 77777777 – XX – IHB | T6: SEK | U6: CPT - Carriage paid to | W6: F - Boleto Payment (via IHC) - Brazil | Z6: FM - Fermanagh
A7: Change Bank Account | C7: Bahrain | D7: China | E7: Honduras | F7: Barbados | G7: CSAM - BASC CS Americas | H7: CN - 1131/1400/1535/1610/1741/1797/1896/8025 | I7: 0169 - JP - Kayaku Nouryon Corp | M7: Dutch | O7: OT05 - OT-Debt Coll. Agency | Q7: Chinese trad. | R7: A064 - 60 days end of month of invoice +4 days | S7: 77777777 – XX – IHBPC | T7: GBP | U7: DAP - Delivered at Place | W7: S - Standard Payment (via IHC) - Mexico | Z7: LD - Londonderry
A8: Change Other | C8: Belarus | D8: Fiji | E8: Mexico | F8: Bermuda | G8: CSAP - BASC CS Asia Pacific | H8: DE - 0126/0217/1077 | I8: 0196 - US - Nouryon Chemicals LLC | M8: Finnish | O8: PD10 - Real estate services | R8: A074 - 60 days end of month of invoice + 14 days | S8: 77777777 – XX – IHBSC | T8: MXN | U8: DPU - Delivered at Place Unloaded | W8: F - Boleto Payment (Cheque) - Brazil | Z8: TY - Tyrone
A9: Extend Purchase Organization | C9: Belgium | D9: French Polynesia | E9: Nicaragua | F9: British Virgin Islands | G9: CSBR - BASC CS Brazil | H9: FI - 1264/8027 | I9: 0217 - DE - Carbosulf Chem.Werke GmbH | M9: French | O9: PD11 - Business park | R9: A094 - 90 days end of month of invoice +4 days | T9: BRL | U9: DDP - Delivered Duty Paid | W9: C - Cheque - Arabic Emirates/Argentina/Pakistan/Chile
A10: Extend Company Code | C10: Bulgaria | D10: Guam | E10: Panama | F10: Canada | G10: DAM1 - BASC RM&P AMERICAS | H10: FR - 1960/7381 | I10: 0381 - BR - NR PPChemicals Ltda PCOP | M10: German | O10: PD12 - Escrow and title services | R10: A104 - 90 days end of month of invoice + 14 days | T10: ARS | U10: EXW - Ex Works | W10: L - Cheque - Canada/USA
A11: Block Vendor | C11: Croatia | D11: Hong Kong | E11: Argentina | F11: Cayman Islands | G11: DAP1 - BASC RM&P ASIA PAC | H11: IN - 1025 | I11: 0382 - BR - NR PPChemicals Ltda SCSA | M11: Italian | O11: PD13 - Real estate brokers or agents | R11: A184 - 180 days end of month of invoice + 4 days | T11: CAD | U11: FAS - Free Alongside Ship | W11: F - Draft/Manual payments (IHC or Cheque) - USA Company Code 0196
A12: Unblock Vendor | C12: Cyprus | D12: Indonesia | E12: Bolivia | F12: Dominica | G12: DBR1 - BASC RM&P Brazil | H12: IT - 9008 | I12: 0553 - ES - Nouryon Chemicals SA | M12: Japanese | O12: PD14 - University | R12: A194 - 180 days end of month of invoice + 14 days | T12: CNY | U12: FCA - Free Carrier | W12: M - Manual Payment - Arabic Emirates/France/Taiwan
A13: Add YY Partner | C13: Czech Republic | D13: Japan | E13: Brazil | F13: Guadeloupe | G13: GSU1 - BASC Subcontracting | H13: JP - 0169/7231 | I13: 0636 - BE - Nouryon Chemicals SA | M13: Norwegian | O13: PD15 - Warehouse store | R13: C007 - 7 days date of invoice | T13: ADP | U13: FOB - Free on board | W13: B - Domestic payment (BGC-Efde) - Russia
C14: Denmark | D14: Laos | E14: Chile | F14: Haiti | G14: IAU1 - NRSC NPR Australia | H14: MX - 0125 | I14: 0888 - NL - Nouryon Specialty Chemicals BV | M14: Portuguese | O14: PDTA - Real Estate - To Be Approved | R14: C014 - 14 days date of invoice | T14: AED | W14: O - Wire Payment (Bonifico) - Italy
C15: Egypt | D15: Malaysia | E15: Colombia | F15: Jamaica | G15: IBR1 - BASC NPR Brazil | H15: NL - 0888/1435/ 8034 | I15: 1025 - IN - NR Chemicals IN Pvt Ltd | M15: Russian | O15: PE10 - Electricity | R15: C015 - within 15 days after date of invoice | T15: AFA | W15: U - Wire Payment (Ueberweisung) - Switzerland
C16: Estonia | D16: Myanmar | E16: Ecuador | F16: Martinique | G16: ICL1 - BASC NPR Chile | H16: NO - 7156 | I16: 1077 - DE - NR Func. Chem. GmbH | M16: Spanish | O16: PE20 - Energy - Other | R16: C020 - within 20 days after date of invoice | T16: AFN | W16: U - Urgent Payment - Mexico
C17: Ethiopia | D17: New Zealand | E17: Guyana | F17: Puerto Rico | G17: ICO1 - BASC NRP Colombia | H17: SE - 7015/7020/7224/7830 | I17: 1093 - SG - NOURYON ASIA PTE.LTD. | M17: Swedish | O17: PE30 - Gas | R17: C025 - within 25 days after date of invoice | T17: ALL | W17: I - Urgent Payments - Arabic Emirates/Brazil
C18: Faroe Islands | D18: Philippines | E18: Paraguay | F18: Saint Lucia | G18: IES1 - BASC NPR Spain | H18: SG - 7739 | I18: 1113 - SE - Nouryon International AB | O18: PE40 - Steam | R18: C030 - 30 days date of invoice | T18: AMD | W18: Y - Wire/Urgent - Canada/USA/Taiwan
C19: Finland | D19: Samoa | E19: Peru | F19: Saint Vincent and the Grenadines | G19: IPK1 - BASC NPR Pakistan | H19: US - 0196/1424/1427/7481 | I19: 1128 - RU - OOO NOURYON | O19: PH22 - Cylinder / Bulk gas | R19: C045 - within 45 days after date of invoice | T19: ANG | W19: A - Bank acceptance
C20: France | D20: Singapore | E20: Suriname | F20: Trinidad and Tobago | G20: IRU1 - BASC NPR Russia | I20: 1131 - CN - Tianjin NR Peroxides CoLt | O20: PL10 - Air | R20: C060 - 60 days date of invoice | T20: AOA
C21: Georgia | D21: South Korea | E21: Uruguay | F21: U.S. Virgin Islands | G21: ITH1 - NRSC NPR Thailand | I21: 1168 - CO - Nouryon PPC S.A.S(CO) | O21: PL18 - Logistics - TBA | R21: C075 - within 75 days after date of invoice | T21: AON
C22: Germany | D22: Sri Lanka | E22: Venezuela | F22: United States | G22: ITW1 - BASC NPR Taiwan | I22: 1256 - TW - Nouryon Pulp and Performance Chemicals (Taiwan) Co., Ltd | O22: PL20 - Parcel | R22: C090 - 90 days date of invoice | T22: AOR
C23: Gibraltar | D23: Taiwan | E23: Dominican Republic | G23: IVE1 - BASC NPR Venezuela | I23: 1264 - FI - Nouryon Finland Oy | O23: PL34 - Sea containers /Iso Tank | R23: C120 - Within 120 days after date of invoice | T23: ATS
C24: Greece | D24: Thailand | G24: SCAM - SCM AMERICAS | I24: 1400 - CN - NR New Material (Suzhou) | O24: PL35 - Rail Cars | R24: C150 - Within 150 days after date of invoice | T24: AUD
C25: Guernsey | D25: Vietnam | G25: SCAP - SCM ASIA PAC | I25: 1422 - DE - Nouryon Faser PV GmbH | O25: PL36 - Chassis | R25: C210 - within 210 days after date of invoice | T25: AWG
C26: Hungary | G26: SCBR - SCM Brazil | I26: 1424 - US - Nouryon Func. Chem.LLC | O26: PL37 - Maintenance&Repair | R26: D030 - Against draft 30 days after date of shipment (only for PK ICSTO) | T26: AZM
C27: Iceland | G27: SCEU - SCM EMEIA | I27: 1427 - US - NR Surface Chemistry LLC | O27: PL51 - Construction Equipment Rental or Leasing Services | R27: H007 - 7 days after invoice received | T27: BAM
C28: India | G28: TRAM - BASC Tran.Man. Amer.(ZCAR) | I28: 1435 - NL - Nouryon Func. Chem. bv | O28: PL60 - Rail | R28: H015 - 15 days after invoice received | T28: BBD
C29: Ireland | G29: TRAP - BASC Tran.Man. AP (ZCAR) | I29: 1535 - CN - Nouryon Taixing Co.Ltd | O29: PL70 - Road Packed | R29: H020 - 20 days after invoice received | T29: BDT
C30: Israel | G30: TRBR - BASC Tran.Man. Braz.(ZCAR) | I30: 1610 - CN - NR Chem (Tianjin) Co. Ltd | O30: PL80 - Sea Containers | R30: H025 - 25 days after invoice received | T30: BEF
C31: Italy | I31: 1676 - BR - Nouryon PPC Bahia S/A | O31: PL81 - Freight Forwarding | R31: H030 - 30 days after invoice received | T31: BGN
C32: Jordan | I32: 1741 - CN - NR Chemicals (Guangzhou) | O32: PL82 - Barge | R32: H045 - 45 days after invoice received | T32: BHD
C33: Kenya | I33: 1797 - CN - NR Chem.(Ningbo)Co Ltd | O33: PL83 - Customs Broker | R33: H060 - 60 days after invoice received | T33: BIF
C34: Kuwait | I34: 1896 - CN - NR Chemicals (BoXing) | O34: PL91 - Road Bulk Liquid | R34: H075 - 75 days after invoice received | T34: BMD
C35: Liechtenstein | I35: 1956 - AU - Nouryon Chemicals Australia Pty Ltd | O35: PL92 - Packed Warehousing | R35: H090 - 90 days after invoice received | T35: BND
C36: Lithuania | I36: 1960 - FR - Nouryon Chemicals France SAS | O36: PL93 - Bulk Warehousing | R36: H120 - 120 days after invoice received | T36: BOB
C37: Luxembourg | I37: 1964 - PK - Nouryon Chemicals (SMC-Private) Ltd. | O37: PL94 - Road Bulk Dry | R37: H150 - 150 days after invoice received | T37: BSD
C38: Macedonia | I38: 2075 - TW - Nouryon Asia Pte. Ltd | O38: PLS2 - Deep Sea / Iso Tank | R38: H210 - 210 days after invoice received | T38: BTN
C39: Malta | I39: 3132 - FR - Pontimmo Sarl | O39: PLS4 - Management Systems | T39: BWP
C40: Mauritius | I40: 4083 - AR - NR Chemicals AR SAU | O40: PLS5 - Benchmark&Consulting | T40: BYB
...
