Workbook
Name Company_Code: '[1]Formulas List'!$E$2:$E$64
Name Company_Code_for_Ariba: '[1]Formulas List'!$G$2:$G$21
Name ERS: '[1]Formulas List'!$Q$2:$Q$4
Name House_Bank: '[1]Formulas List'!$N$2:$N$5
Name ICMS_Taxpayer: '[1]Formulas List'!$K$2:$K$4
Name Incoterms1: '[1]Formulas List'!$P$2:$P$32
Name Industry_Key: '[1]Formulas List'!$J$2:$J$297
Name International_Version_Type: '[1]Formulas List'!$L$2:$L$6
Name Language_of_Vendor: '[1]Formulas List'!$H$2:$H$17
Name NobianCompanyCodeAriba: 'Drop down list'!#REF!
Name NobianCompanyCodeother: 'Drop down list'!#REF!
Name NobianPurchaseOrganization: 'Drop down list'!#REF!
Name NouryonCompanyCodeAriba: 'Drop down list'!$I$2:$I$19
Name NouryonCompanyCodeother: 'Drop down list'!$J$2:$J$64
Name NouryonPurchaseOrganization: 'Drop down list'!$H$3:$H$30
Name Order_Currency: '[1]Formulas List'!$O$2:$O$201
Name Payment_Term: '[1]Formulas List'!$M$2:$M$19
Name Purchase_Organization: '[1]Formulas List'!$F$2:$F$82
Name SaltSpecialtiesCompanyCodeAriba: 'Drop down list'!#REF!
Name SaltSpecialtiesCompanyCodeother: 'Drop down list'!#REF!
Name SaltSpecialtiesPurchaseOrganization: 'Drop down list'!#REF!
Name Stand_Method: '[1]Formulas List'!$I$2:$I$4
Name test: MDM!$B$6,MDM!$B$8,MDM!$B$9,MDM!#REF!,MDM!$B$10,MDM!$B$11,MDM!#REF!
Name TypeofRequest: '[1]Formulas List'!$A$2:$A$5
Name Vendor_account_group: '[1]Formulas List'!$B$2:$B$7

Sheet Vendor Form
A2: LIEFERANTEN INFORMATION DEUTSCHLAND
A3: Version 04.08.2026
A5: Dieses Formular wird benötigt, um Ihre Firma bei Nouryon als neuen Lieferanten anzulegen oder um Ihre Firmendaten
A6: zu aktualisieren. Für die Aktualisierung füllen Sie bitte auch alle Felder aus.
A7: Füllen Sie dieses Formular aus und senden Sie das Excel per E-Mail an: vendor@nouryon.com
A9: *Optional / fakultativ
A10: Your Vendor Data | B10: Ihre Lieferantendaten | C10: Bitte aus der Liste wählen
A12: Statutory Information | B12: Grundinformation
A13: Company name | B13: Firmenname
A14: Company address | B14: Firmenadresse
A15: House number | B15: Hausnummer
A16: Postal code | B16: Postleitzahl
A17: City | B17: Stadt
A18: Country | B18: Land | C18: Deutschland (Germany)
A19: Company phone number | B19: Firmen Telefonnummer
A20: VAT/Tax number | B20: USt-IdNr./Steuernummer
A21: Additional Tax number * | B21: Zusätzliche Steuernummer*
A22: Chamber of Commerce number * | B22: Nummer der Handelskammer*
A23: D.U.N.S. number.* | B23: D.U.N.S. nummer.*
A24: Ariba Network ID * | B24: Ariba Network ID*
A25: SCAC * | B25: SCAC*
A27: Contact Information
A28: Company post address * | B28: Postadresse *(wenn anders als oben)
A29: House number * | B29: Hausnummer *
A30: Postal code * | B30: Postleitzahl *
A31: City * | B31: Stadt *
A32: Commercial contact person name | B32: Geschäftliche Kontaktperson
A33: Commercial contact phone number | B33: Telefonnummer der Kontaktperson
A34: E-mail adress for receiving PO's | B34: E-Mail für ankommende Bestellungen
A35: Communication language | B35: Ihre Firmensprache | C35: English
A36: Nouryon Business contact person | B36: Nouryon Geschäftskontaktperson
A37: Nouryon Procurement contact person | B37: Ansprechpartner für die Beschaffung
A39: Payment Information | B39: Zahlungsinformation
A40: Currency | B40: Währung | C40: Bitte aus der Liste wählen
A41: Account holder | B41: Kontoinhaber
A42: Bank name | B42: Name der Bank
A43: Bank country | B43: Land der Bank | C43: Bitte aus der Liste wählen
A44: IBAN or Bank Account Number | B44: IBAN oder Kontonummer
A45: =IF(C43="India","Bank Key*","BIC/Swift code") -> BIC/Swift code | B45: BIC/Swift code
A46: =IF(OR(C43="0",C43="France",C43="Italy",C43="Spain",C43="Portugal"),"Bank control key","")
...

Sheet MDM
A1: MDM Germany
A2: Version 04.08.2026 | B2: =IF(B13>0,"Please link SAP-ID and ACM-ID first!","")
A4: Initial Screen | C4: Fill in
A5: Vendor Details | B5: =IF('Vendor Form'!$C$10="Choose from drop down","",'Vendor Form'!$C$10) -> Bitte aus der Liste wählen | C5: Automatic
A6: Type of Request 1 | B6: Choose from drop down | C6: PAO
A7: Type of Request 2 | B7: Choose from drop down | C7: PAO
A8: Vendor Number | C8: PAO
A9: Vendor Account Group | B9: Choose from drop down | C9: PAO
A10: Purchase Organization | B10: Choose from drop down | C10: PAO
A11: Company Code Ariba | B11: Choose from drop down | C11: PAO
A12: Company Code other | B12: Choose from drop down | C12: PAO
A13: Ariba Prospect ACM ID | C13: PAO
A14: General Data (English)
A15: Vendor name | B15: =IF('Vendor Form'!$C$13="","",'Vendor Form'!$C$13) | C15: Automatic
A16: Vendor name 2 (if necessary) | C16: Optional
A17: Search Field | C17: Optional
A18: Street | B18: =IF('Vendor Form'!$C$14="","",'Vendor Form'!$C$14) | C18: Automatic
A19: House number | B19: =IF('Vendor Form'!$C$15="","",'Vendor Form'!$C$15) | C19: Automatic
A20: Street 2 | C20: Optional
A21: District | C21: Optional
A22: Postal code | B22: =IF('Vendor Form'!$C$16="","",'Vendor Form'!$C$16) | C22: Automatic
A23: City | B23: =IF('Vendor Form'!$C$17="","",'Vendor Form'!$C$17) | C23: Automatic
A24: Country | B24: =IF('Vendor Form'!$C$18="Choose from drop down","",'Vendor Form'!$C$18) -> Deutschland (Germany) | C24: Automatic
A25: Region/ Province | C25: Optional
A26: ICMS Taxpayer | C26: Not applicable
A27: PO Box | B27: =IF('Vendor Form'!$C$28="","",'Vendor Form'!$C$28) | C27: Automatic
A28: PO Box Postal Code | B28: =IF('Vendor Form'!$C$30="","",'Vendor Form'!$C$30) | C28: Automatic
A29: Other City | B29: =IF('Vendor Form'!$C$31="","",'Vendor Form'!$C$31) | C29: Automatic
A30: Language of Vendor | B30: =IF('Vendor Form'!$C$35="Choose from drop down","",'Vendor Form'!$C$35) -> English | C30: Automatic
A31: Telephone no. | B31: =IF('Vendor Form'!$C$19="","",'Vendor Form'!$C$19) | C31: Automatic
A32: Fax no. | C32: Optional
A33: E-Mail | B33: =IF('Vendor Form'!$C$34="","",'Vendor Form'!$C$34) | C33: Automatic
A34: Payment Supplement Email | C34: Optional
A35: Stand Method | B35: Email | C35: PAO
A36: International Version
A37: International Version Type | C37: Not applicable
A38: Vendor name | C38: Not applicable
A39: Vendor name 2 (if necessary) | C39: Not applicable
A40: Search Field | C40: Not applicable
A41: Street | C41: Not applicable
...

Sheet Drop down list
A1: Type of Request | B1: Company | C1: Delete Old Bank Account | D1: EMEIA | E1: APAC | F1: LATAM | G1: NAM | H1: Nouryon Purchase Organization | I1: Nouryon Company Code Ariba | J1: Nouryon Company Code other | K1: Vendor account group | L1: Recon. Account | M1: Cash Management Group | N1: Language of Vendor | O1: Stand Method | P1: Industry Key | Q1: ICMS Taxpayer | R1: International Version Type | S1: Payment Term | T1: House Bank | U1: Order Currency | V1: Incoterms 2020 | W1: ERS | X1: Payment Method | Y1: Bank account phone confirmation | Z1: Your Vendor Details
A2: Choose from drop down | B2: Choose from drop down | C2: Bitte aus der Liste wählen | D2: Bitte aus der Liste wählen | E2: Choose from drop down | F2: Choose from drop down | G2: Choose from drop down | H2: Choose from drop down | I2: Choose from drop down | J2: Choose from drop down | K2: Choose from drop down | N2: Choose from drop down | O2: Choose from drop down | P2: Choose from drop down | Q2: Choose from drop down | S2: Choose from drop down | T2: Choose from drop down | U2: Bitte aus der Liste wählen | V2: Choose from drop down | W2: Choose from drop down | X2: Choose from drop down | Y2: Choose from drop down | Z2: Bitte aus der Liste wählen
A3: Create New Vendor | B3: Nouryon | C3: Yes | D3: Deutschland (Germany) | E3: Afghanistan | F3: Belize | G3: Anguilla | H3: IGAR - Nouryon Ariba Global | I3: AE - 8240 | J3: 0061 - CA - Nouryon Chemicals Ltd(CA) | K3: ZVND- Third Party Vendor | L3: 3211000 - Supplies | M3: A1 - Vendors third parties | N3: English | O3: Email | P3: OT01 - Governmental Payments | Q3: Choose from drop down | R3: Choose from drop down | S3: A004 - 0 days end of month invoice + 4 days | T3: 77777777 – XX – IHCA | U3: EUR | V3: CFR - Costs and freight | W3: Yes | X3: H - Bank | Y3: Yes | Z3: Sind neu (Are new)
A4: Change E-mail | C4: No | E4: Australia | F4: Costa Rica | G4: Antigua and Barbuda | H4: TREU - BASC Tran.Man. EMAEI (ZCAR) | I4: AR - 4083 | J4: 0062 - GB - Nouryon Chemicals Limited | K4: ZCAR- Forwarding agent (TREU/ TRAM/ TRAP/TRBR) | L4: 3211000 - Supplies | M4: A1 - Vendors third parties | N4: Deutsch (German) | O4: Printer | P4: OT02 - Bank | Q4: 1 - Tax Jurisdiction start with region without ‘C’ | R4: Chinese | S4: A014 - 0 days end of month invoice + 14 days | T4: 88888888 – XX – IHCU | U4: USD | V4: CIF - Costs, insurance & freight | W4: No | X4: HB - IBAN /Bank Giro - Sweden | Y4: No | Z4: Müssen aktualisiert werden (Need to be updated)
A5: Change Payment Term | C5: Not applicable | E5: Bangladesh | F5: El Salvador | G5: Aruba | H5: DEU1 - BASC RM&P EMEAI | I5: BE - 0636 | J5: 0125 - MX - NR Chemicals SA de CV | L5: 3311000 - Intercompany – current accounts payables | M5: A2 - Vendors within Nouryon | O5: Fax | P5: OT03 - Social Security | Q5: 9 - Tax Jurisdiction start with region + ‘C’ | R5: International | S5: A034 - 30 days end of month invoice +4 | T5: 99999999 – XX – IHCE | U5: INR | V5: CIP - Carriage and insurance paid to | X5: HG - IBAN/ Bank Giro - Denmark | Y5: Not applicable
A6: Change Industry Key | E6: Brunei | F6: Guatemala | G6: Bahamas | H6: CSEU - BASC CS EMEAI | I6: CA - 0061/7640 | J6: 0126 - DE - Nouryon Chemicals GmbH | L6: 3311046 - Intercompany current account payables | M6: A3 - Vendors within the BU | P6: OT04 - Landowners | R6: Kanji | S6: A044 - 30 days end of month invoice + 14 days | U6: SEK | V6: CPT - Carriage paid to | X6: F - Boleto Payment (via IHC) - Brazil
A7: Change Bank Account | E7: China | F7: Honduras | G7: Barbados | H7: CSAM - BASC CS Americas | I7: CN - 1131/1400/1535/1610/1741/1797/1896/8025 | J7: 0169 - JP - Kayaku Nouryon Corp | P7: OT05 - OT-Debt Coll. Agency | R7: Chinese trad. | S7: A064 - 60 days end of month of invoice +4 days | U7: GBP | V7: DAP - Delivered at Place | X7: S - Standard Payment (via IHC) - Mexico
A8: Change Other | E8: Fiji | F8: Mexico | G8: Bermuda | H8: CSAP - BASC CS Asia Pacific | I8: DE - 0126/0217/1077 | J8: 0196 - US - Nouryon Chemicals LLC | P8: PD10 - Real estate services | S8: A074 - 60 days end of month of invoice + 14 days | U8: MXN | V8: DPU - Delivered at Place Unloaded | X8: F - Boleto Payment (Cheque) - Brazil
A9: Extend Purchase Organization | E9: French Polynesia | F9: Nicaragua | G9: British Virgin Islands | H9: CSBR - BASC CS Brazil | I9: FI - 1264/8027 | J9: 0217 - DE - Carbosulf Chem.Werke GmbH | P9: PD11 - Business park | S9: A094 - 90 days end of month of invoice +4 days | U9: BRL | V9: DDP - Delivered Duty Paid | X9: C - Cheque - Arabic Emirates/Argentina/Pakistan/Chile
A10: Extend Company Code | E10: Guam | F10: Panama | G10: Canada | H10: DAM1 - BASC RM&P AMERICAS | I10: FR - 1960/7381 | J10: 0381 - BR - NR PPChemicals Ltda PCOP | P10: PD12 - Escrow and title services | S10: A104 - 90 days end of month of invoice + 14 days | U10: ARS | V10: EXW - Ex Works | X10: L - Cheque - Canada/USA
A11: Block Vendor | E11: Hong Kong | F11: Argentina | G11: Cayman Islands | H11: DAP1 - BASC RM&P ASIA PAC | I11: IN - 1025 | J11: 0382 - BR - NR PPChemicals Ltda SCSA | P11: PD13 - Real estate brokers or agents | S11: A184 - 180 days end of month of invoice + 4 days | U11: CAD | V11: FAS - Free Alongside Ship | X11: F - Draft/Manual payments (IHC or Cheque) - USA Company Code 0196
A12: Unblock/ Vendor | E12: Indonesia | F12: Bolivia | G12: Dominica | H12: DBR1 - BASC RM&P Brazil | I12: IT - 9008 | J12: 0553 - ES - Nouryon Chemicals SA | P12: PD14 - University | S12: A194 - 180 days end of month of invoice + 14 days | U12: CNY | V12: FCA - Free Carrier | X12: M - Manual Payment - Arabic Emirates/France/Taiwan
A13: Add YY Partner | E13: Japan | F13: Brazil | G13: Guadeloupe | H13: GSU1 - BASC Subcontracting | I13: JP - 0169/7231 | J13: 0636 - BE - Nouryon Chemicals SA | P13: PD15 - Warehouse store | S13: C007 - 7 days date of invoice | U13: ADP | V13: FOB - Free on board | X13: B - Domestic payment (BGC-Efde) - Russia
E14: Laos | F14: Chile | G14: Haiti | H14: IAU1 - NRSC NPR Australia | I14: MX - 0125 | J14: 0888 - NL - Nouryon Specialty Chemicals BV | P14: PDTA - Real Estate - To Be Approved | S14: C014 - 14 days date of invoice | U14: AED | X14: O - Wire Payment (Bonifico) - Italy
E15: Malaysia | F15: Colombia | G15: Jamaica | H15: IBR1 - BASC NPR Brazil | I15: NL - 0888/1435/ 8034 | J15: 1025 - IN - NR Chemicals IN Pvt Ltd | P15: PE10 - Electricity | S15: C015 - within 15 days after date of invoice | U15: AFA | X15: U - Wire Payment (Ueberweisung) - Switzerland
E16: Myanmar | F16: Ecuador | G16: Martinique | H16: ICL1 - BASC NPR Chile | I16: NO - 7156 | J16: 1077 - DE - NR Func. Chem. GmbH | P16: PE20 - Energy - Other | S16: C020 - within 20 days after date of invoice | U16: AFN | X16: U - Urgent Payment - Mexico
E17: New Zealand | F17: Guyana | G17: Puerto Rico | H17: ICO1 - BASC NRP Colombia | I17: SE - 7015/7020/7224/7830 | J17: 1093 - SG - NOURYON ASIA PTE.LTD. | P17: PE30 - Gas | S17: C025 - within 25 days after date of invoice | U17: ALL | X17: I - Urgent Payments - Arabic Emirates/Brazil
E18: Philippines | F18: Paraguay | G18: Saint Lucia | H18: IES1 - BASC NPR Spain | I18: SG - 7739 | J18: 1113 - SE - Nouryon International AB | P18: PE40 - Steam | S18: C030 - 30 days date of invoice | U18: AMD | X18: Y - Wire/Urgent - Canada/USA/Taiwan
E19: Samoa | F19: Peru | G19: Saint Vincent and the Grenadines | H19: IPK1 - BASC NPR Pakistan | I19: US - 0196/1424/1427/7481 | J19: 1128 - RU - OOO NOURYON | P19: PH22 - Cylinder / Bulk gas | S19: C045 - within 45 days after date of invoice | U19: ANG | X19: A - Bank acceptance
E20: Singapore | F20: Suriname | G20: Trinidad and Tobago | H20: IRU1 - BASC NPR Russia | J20: 1131 - CN - Tianjin NR Peroxides CoLt | P20: PL10 - Air | S20: C060 - 60 days date of invoice | U20: AOA
E21: South Korea | F21: Uruguay | G21: U.S. Virgin Islands | H21: ITH1 - NRSC NPR Thailand | J21: 1168 - CO - Nouryon PPC S.A.S(CO) | P21: PL18 - Logistics - TBA | S21: C075 - within 75 days after date of invoice | U21: AON
E22: Sri Lanka | F22: Venezuela | G22: United States | H22: ITW1 - BASC NPR Taiwan | J22: 1256 - TW - Nouryon Pulp and Performance Chemicals (Taiwan) Co., Ltd | P22: PL20 - Parcel | S22: C090 - 90 days date of invoice | U22: AOR
E23: Taiwan | F23: Dominican Republic | H23: IVE1 - BASC NPR Venezuela | J23: 1264 - FI - Nouryon Finland Oy | P23: PL34 - Sea containers /Iso Tank | S23: C120 - Within 120 days after date of invoice | U23: ATS
E24: Thailand | H24: SCAM - SCM AMERICAS | J24: 1400 - CN - NR New Material (Suzhou) | P24: PL35 - Rail Cars | S24: C150 - Within 150 days after date of invoice | U24: AUD
E25: Vietnam | H25: SCAP - SCM ASIA PAC | J25: 1422 - DE - Nouryon Faser PV GmbH | P25: PL36 - Chassis | S25: C210 - within 210 days after date of invoice | U25: AWG
H26: SCBR - SCM Brazil | J26: 1424 - US - Nouryon Func. Chem.LLC | P26: PL37 - Maintenance&Repair | S26: D030 - Against draft 30 days after date of shipment (only for PK ICSTO) | U26: AZM
H27: SCEU - SCM EMEIA | J27: 1427 - US - NR Surface Chemistry LLC | P27: PL51 - Construction Equipment Rental or Leasing Services | S27: H007 - 7 days after invoice received | U27: BAM
H28: TRAM - BASC Tran.Man. Amer.(ZCAR) | J28: 1435 - NL - Nouryon Func. Chem. bv | P28: PL60 - Rail | S28: H015 - 15 days after invoice received | U28: BBD
H29: TRAP - BASC Tran.Man. AP (ZCAR) | J29: 1535 - CN - Nouryon Taixing Co.Ltd | P29: PL70 - Road Packed | S29: H020 - 20 days after invoice received | U29: BDT
H30: TRBR - BASC Tran.Man. Braz.(ZCAR) | J30: 1610 - CN - NR Chem (Tianjin) Co. Ltd | P30: PL80 - Sea Containers | S30: H025 - 25 days after invoice received | U30: BEF
J31: 1676 - BR - Nouryon PPC Bahia S/A | P31: PL81 - Freight Forwarding | S31: H030 - 30 days after invoice received | U31: BGN
J32: 1741 - CN - NR Chemicals (Guangzhou) | P32: PL82 - Barge | S32: H045 - 45 days after invoice received | U32: BHD
J33: 1797 - CN - NR Chem.(Ningbo)Co Ltd | P33: PL83 - Customs Broker | S33: H060 - 60 days after invoice received | U33: BIF
J34: 1896 - CN - NR Chemicals (BoXing) | P34: PL91 - Road Bulk Liquid | S34: H075 - 75 days after invoice received | U34: BMD
J35: 1956 - AU - Nouryon Chemicals Australia Pty Ltd | P35: PL92 - Packed Warehousing | S35: H090 - 90 days after invoice received | U35: BND
J36: 1960 - FR - Nouryon Chemicals France SAS | P36: PL93 - Bulk Warehousing | S36: H120 - 120 days after invoice received | U36: BOB
J37: 1964 - PK - Nouryon Chemicals (SMC-Private) Ltd. | P37: PL94 - Road Bulk Dry | S37: H150 - 150 days after invoice received | U37: BSD
J38: 2075 - TW - Nouryon Asia Pte. Ltd | P38: PLS2 - Deep Sea / Iso Tank | S38: H210 - 210 days after invoice received | U38: BTN
J39: 3132 - FR - Pontimmo Sarl | P39: PLS4 - Management Systems | U39: BWP
J40: 4083 - AR - NR Chemicals AR SAU | P40: PLS5 - Benchmark&Consulting | U40: BYB
...
